BEGIN:VCALENDAR
VERSION:2.0
PRODID:-//Arizona Teenage Republicans - ECPv6.15.20//NONSGML v1.0//EN
CALSCALE:GREGORIAN
METHOD:PUBLISH
X-ORIGINAL-URL:https://arizonatars.com
X-WR-CALDESC:Events for Arizona Teenage Republicans
REFRESH-INTERVAL;VALUE=DURATION:PT1H
X-Robots-Tag:noindex
X-PUBLISHED-TTL:PT1H
BEGIN:VTIMEZONE
TZID:UTC
BEGIN:STANDARD
TZOFFSETFROM:+0000
TZOFFSETTO:+0000
TZNAME:UTC
DTSTART:20240101T000000
END:STANDARD
END:VTIMEZONE
BEGIN:VEVENT
DTSTART;VALUE=DATE:20251124
DTEND;VALUE=DATE:20251202
DTSTAMP:20260425T175051
CREATED:20251124T173744Z
LAST-MODIFIED:20251124T173744Z
UID:6756-1763942400-1764633599@arizonatars.com
SUMMARY:SEV Toy Drive
DESCRIPTION:Donate new\, unwrapped toys \nAges:  7 yrs old and under \nCall: (602) 639-1375
URL:https://arizonatars.com/event/sev-toy-drive/
LOCATION:New Life Pregnancy Center\, 1431 E Southern Ave\, Phoenix
END:VEVENT
BEGIN:VEVENT
DTSTART;TZID=UTC:20251204T180000
DTEND;TZID=UTC:20251204T190000
DTSTAMP:20260425T175051
CREATED:20251124T173255Z
LAST-MODIFIED:20251124T173338Z
UID:6753-1764871200-1764874800@arizonatars.com
SUMMARY:Colorado River Tea Party - Christmas Potluck Party
DESCRIPTION:Guest Speaker: Sheriff Wilmont
URL:https://arizonatars.com/event/colorado-river-tea-party-christmas-potluck-party/
LOCATION:6480 Hwy 95  Yuma\, AZ 85365
END:VEVENT
BEGIN:VEVENT
DTSTART;VALUE=DATE:20251205
DTEND;VALUE=DATE:20251206
DTSTAMP:20260425T175051
CREATED:20251117T164849Z
LAST-MODIFIED:20251117T164849Z
UID:6726-1764892800-1764979199@arizonatars.com
SUMMARY:RWOW Christmas Luncheon
DESCRIPTION:This Christmas we celebrate the Golden Era\, please wear Gold! \nMenu: Soup\, Salad & Sandwich Bar \nCost: $35
URL:https://arizonatars.com/event/rwow-christmas-luncheon/
END:VEVENT
BEGIN:VEVENT
DTSTART;VALUE=DATE:20251213
DTEND;VALUE=DATE:20251214
DTSTAMP:20260425T175051
CREATED:20251031T035410Z
LAST-MODIFIED:20251031T035410Z
UID:6630-1765584000-1765670399@arizonatars.com
SUMMARY:Hometown Christmas Parade
DESCRIPTION:Hometown Christmas Parade @ Glendale\, AZ – Youth needed to help out Turning Point https://www.hcparade.org
URL:https://arizonatars.com/event/hometown-christmas-parade/
END:VEVENT
BEGIN:VEVENT
DTSTART;TZID=UTC:20251213T130000
DTEND;TZID=UTC:20251213T160000
DTSTAMP:20260425T175051
CREATED:20251127T033759Z
LAST-MODIFIED:20251212T173901Z
UID:6795-1765630800-1765641600@arizonatars.com
SUMMARY:STV Christmas Potluck - CANCELED
DESCRIPTION:Please bring a dish to share! \nPlease bring a white elephant gift\, $25 or less!
URL:https://arizonatars.com/event/stv-christmas-potluck/
LOCATION:37348 N Azteca Dr
END:VEVENT
BEGIN:VEVENT
DTSTART;TZID=UTC:20251213T130000
DTEND;TZID=UTC:20251213T170000
DTSTAMP:20260425T175051
CREATED:20251124T175957Z
LAST-MODIFIED:20251124T180148Z
UID:6775-1765630800-1765645200@arizonatars.com
SUMMARY:Yuma Christmas Party (Members Only)
DESCRIPTION:White Elephant Rules: bring a gift no more than $25 or bring a funny\, gag gift from home\, make sure it is wrapped! \nPlease RSVP Early: (928) 580-0622
URL:https://arizonatars.com/event/yuma-christmas-party-members-only/
LOCATION:WIld River Family Entertainment Center\, 15136 Avenue B\, Somerton\, AZ\, 85350\, United States
END:VEVENT
BEGIN:VEVENT
DTSTART;TZID=UTC:20251217T184500
DTEND;TZID=UTC:20251217T200000
DTSTAMP:20260425T175051
CREATED:20251124T174247Z
LAST-MODIFIED:20251124T174259Z
UID:6762-1765997100-1766001600@arizonatars.com
SUMMARY:AFP & Libre Christmas Party
DESCRIPTION:To RSVP Call: (602) 920-0470
URL:https://arizonatars.com/event/afp-libre-christmas-party/
LOCATION:4745 N 7th St Suite 429 Phoenix\, AZ 85041
END:VEVENT
END:VCALENDAR