BEGIN:VCALENDAR
VERSION:2.0
PRODID:-//Arizona Teenage Republicans - ECPv6.15.20//NONSGML v1.0//EN
CALSCALE:GREGORIAN
METHOD:PUBLISH
X-WR-CALNAME:Arizona Teenage Republicans
X-ORIGINAL-URL:https://arizonatars.com
X-WR-CALDESC:Events for Arizona Teenage Republicans
REFRESH-INTERVAL;VALUE=DURATION:PT1H
X-Robots-Tag:noindex
X-PUBLISHED-TTL:PT1H
BEGIN:VTIMEZONE
TZID:UTC
BEGIN:STANDARD
TZOFFSETFROM:+0000
TZOFFSETTO:+0000
TZNAME:UTC
DTSTART:20240101T000000
END:STANDARD
END:VTIMEZONE
BEGIN:VEVENT
DTSTART;TZID=UTC:20250802T180000
DTEND;TZID=UTC:20250802T200000
DTSTAMP:20260425T224825
CREATED:20250721T171218Z
LAST-MODIFIED:20250721T171218Z
UID:5856-1754157600-1754164800@arizonatars.com
SUMMARY:Yuma Back to School Open House & Mixer
DESCRIPTION:
URL:https://arizonatars.com/event/yuma-back-to-school-open-house-mixer/
LOCATION:GOP Headquarters\, 255 w 24th Street\, Suite #1
END:VEVENT
BEGIN:VEVENT
DTSTART;TZID=UTC:20250814T180000
DTEND;TZID=UTC:20250814T193000
DTSTAMP:20260425T224825
CREATED:20250806T005923Z
LAST-MODIFIED:20250806T005923Z
UID:5939-1755194400-1755199800@arizonatars.com
SUMMARY:Yuma First Fall 2025 Meeting
DESCRIPTION:
URL:https://arizonatars.com/event/yuma-first-fall-2025-meeting/
LOCATION:Yuma County GOP Headquarters
END:VEVENT
BEGIN:VEVENT
DTSTART;TZID=UTC:20250816T140000
DTEND;TZID=UTC:20250816T160000
DTSTAMP:20260425T224825
CREATED:20250724T234519Z
LAST-MODIFIED:20250724T234519Z
UID:5884-1755352800-1755360000@arizonatars.com
SUMMARY:STV Feed My Starving Children
DESCRIPTION:RSVP to: (602) 781-2713
URL:https://arizonatars.com/event/stv-feed-my-starving-children/
LOCATION:1100 W Grove Parkway Suite 101 Tempe
END:VEVENT
BEGIN:VEVENT
DTSTART;TZID=UTC:20250830T170000
DTEND;TZID=UTC:20250830T193000
DTSTAMP:20260425T224825
CREATED:20250814T221806Z
LAST-MODIFIED:20250814T221806Z
UID:5959-1756573200-1756582200@arizonatars.com
SUMMARY:SEV Teen Reps Game Night
DESCRIPTION:RSVP to  SEVTARS@gmail.com \nFood and Drinks Provided
URL:https://arizonatars.com/event/sev-teen-reps-game-night/
LOCATION:1835 E Elliot Road Suite 102 Tempe\, AZ
END:VEVENT
BEGIN:VEVENT
DTSTART;TZID=UTC:20250830T170000
DTEND;TZID=UTC:20250830T193000
DTSTAMP:20260425T224825
CREATED:20250904T155651Z
LAST-MODIFIED:20250904T155651Z
UID:6011-1756573200-1756582200@arizonatars.com
SUMMARY:SEV Game Night
DESCRIPTION:
URL:https://arizonatars.com/event/sev-game-night/
END:VEVENT
END:VCALENDAR