BEGIN:VCALENDAR
VERSION:2.0
PRODID:-//Arizona Teenage Republicans - ECPv6.15.20//NONSGML v1.0//EN
CALSCALE:GREGORIAN
METHOD:PUBLISH
X-ORIGINAL-URL:https://arizonatars.com
X-WR-CALDESC:Events for Arizona Teenage Republicans
REFRESH-INTERVAL;VALUE=DURATION:PT1H
X-Robots-Tag:noindex
X-PUBLISHED-TTL:PT1H
BEGIN:VTIMEZONE
TZID:UTC
BEGIN:STANDARD
TZOFFSETFROM:+0000
TZOFFSETTO:+0000
TZNAME:UTC
DTSTART:20240101T000000
END:STANDARD
END:VTIMEZONE
BEGIN:VEVENT
DTSTART;TZID=UTC:20250503T090000
DTEND;TZID=UTC:20250503T170000
DTSTAMP:20260426T023504
CREATED:20241218T215752Z
LAST-MODIFIED:20250211T194719Z
UID:5363-1746262800-1746291600@arizonatars.com
SUMMARY:Maga 5k Fun Run for Eric Miller
DESCRIPTION:
URL:https://arizonatars.com/event/maga-5k-fun-run/
LOCATION:Morristown Az\, 37839 W Grand Avenue\, Morristown\, AZ\, 85342\, United States
END:VEVENT
BEGIN:VEVENT
DTSTART;TZID=UTC:20250512T170000
DTEND;TZID=UTC:20250512T190000
DTSTAMP:20260426T023504
CREATED:20250422T005052Z
LAST-MODIFIED:20250422T005052Z
UID:5669-1747069200-1747076400@arizonatars.com
SUMMARY:RWOW Events\, Teens Need to Attend
DESCRIPTION:
URL:https://arizonatars.com/event/rwow-events-teens-need-to-attend/
LOCATION:Rancho de los Caballeros\, Sonoran Room
END:VEVENT
BEGIN:VEVENT
DTSTART;VALUE=DATE:20250515
DTEND;VALUE=DATE:20250516
DTSTAMP:20260426T023504
CREATED:20250206T171153Z
LAST-MODIFIED:20250206T171153Z
UID:5473-1747267200-1747353599@arizonatars.com
SUMMARY:MAGA DC TeenRep Trip Tuition Balance Due
DESCRIPTION:This payment is however much is left not covered by raffle sales and other methods of fundraising.
URL:https://arizonatars.com/event/maga-dc-teenrep-trip-tuition-balance-due/
END:VEVENT
BEGIN:VEVENT
DTSTART;TZID=UTC:20250531T140000
DTEND;TZID=UTC:20250531T180000
DTSTAMP:20260426T023504
CREATED:20250520T164437Z
LAST-MODIFIED:20250520T164437Z
UID:5698-1748700000-1748714400@arizonatars.com
SUMMARY:Turning Point Action Biggs for Governor Event
DESCRIPTION:Andy Biggs & Charlie Kirk \nDoors open at 2 PM\, the event starts at 3 PM \n  \nRegister at TPAction.com/Biggs
URL:https://arizonatars.com/event/turning-point-action-biggs-for-governor-event/
LOCATION:Arizona Biltmore Resort\, Frank Lloyd Wright Ballroom
END:VEVENT
END:VCALENDAR