BEGIN:VCALENDAR
VERSION:2.0
PRODID:-//Arizona Teenage Republicans - ECPv6.15.20//NONSGML v1.0//EN
CALSCALE:GREGORIAN
METHOD:PUBLISH
X-WR-CALNAME:Arizona Teenage Republicans
X-ORIGINAL-URL:https://arizonatars.com
X-WR-CALDESC:Events for Arizona Teenage Republicans
REFRESH-INTERVAL;VALUE=DURATION:PT1H
X-Robots-Tag:noindex
X-PUBLISHED-TTL:PT1H
BEGIN:VTIMEZONE
TZID:UTC
BEGIN:STANDARD
TZOFFSETFROM:+0000
TZOFFSETTO:+0000
TZNAME:UTC
DTSTART:20230101T000000
END:STANDARD
END:VTIMEZONE
BEGIN:VEVENT
DTSTART;VALUE=DATE:20250212
DTEND;VALUE=DATE:20250213
DTSTAMP:20260426T041155
CREATED:20241122T201840Z
LAST-MODIFIED:20250106T174231Z
UID:5327-1739318400-1739404799@arizonatars.com
SUMMARY:AZFRW Day at the Capitol
DESCRIPTION:Wear Red & Meet at the State Capitol Stairs \nQuestions: Contact Darla Gonzalez\, text 480-567-6407 or email darla@azfree.org \nMeet at 8am at Marina R’s house\, wear the Teen Reps Shirt \nAs many teens as possible should attend this event
URL:https://arizonatars.com/event/azfrw-day-at-the-capitol/
LOCATION:Arizona State Capitol\, 1700 W. Washington Phoenix\, AZ
END:VEVENT
BEGIN:VEVENT
DTSTART;TZID=UTC:20250206T080000
DTEND;TZID=UTC:20250208T170000
DTSTAMP:20260426T041155
CREATED:20250106T174933Z
LAST-MODIFIED:20250203T213324Z
UID:5400-1738828800-1739034000@arizonatars.com
SUMMARY:Federated Women's Conference: Raffle Ticket Sales
DESCRIPTION:There will not be food! \nThursday (6th): Setup Tables & Make Sales 5-8pm \nFriday (7th): 8am-8pm \nSaturday (8th): 8am-1pm \nTeens Have a Free Table
URL:https://arizonatars.com/event/federated-womens-conference-raffle-ticket-sales/
LOCATION:DoubleTree by Hilton Hotel\, 2100 South Priest Drive\, Tempe\, AZ\, 85282\, United States
END:VEVENT
BEGIN:VEVENT
DTSTART;TZID=UTC:20250201T110000
DTEND;TZID=UTC:20250201T150000
DTSTAMP:20260426T041155
CREATED:20250113T220643Z
LAST-MODIFIED:20250113T220643Z
UID:5417-1738407600-1738422000@arizonatars.com
SUMMARY:24th Laveen Community Parade
DESCRIPTION:This year’s theme: “Laveen’s Got Talent!”
URL:https://arizonatars.com/event/24th-laveen-community-parade/
LOCATION:Dobbins Road from 43rd to 51st Avenues
END:VEVENT
BEGIN:VEVENT
DTSTART;TZID=UTC:20250128T190000
DTEND;TZID=UTC:20250128T203000
DTSTAMP:20260426T041155
CREATED:20250106T174025Z
LAST-MODIFIED:20250106T174343Z
UID:5396-1738090800-1738096200@arizonatars.com
SUMMARY:ARW Meeting
DESCRIPTION:Adam R. & Eric W. will be speaking at the Ahwatukee Republican Women Meeting
URL:https://arizonatars.com/event/arw-meeting/
LOCATION:3501 E Chandler Blvd Phoenix\, 85048
END:VEVENT
BEGIN:VEVENT
DTSTART;TZID=UTC:20250125T073000
DTEND;TZID=UTC:20250125T143000
DTSTAMP:20260426T041155
CREATED:20250106T173730Z
LAST-MODIFIED:20250106T173847Z
UID:5393-1737790200-1737815400@arizonatars.com
SUMMARY:Raffle Sales at the Dream Church
DESCRIPTION:We need to be there at 7:30am \nWe will sell water bottles are raffle tickets
URL:https://arizonatars.com/event/sell-water-bottles-at-the-dream-church/
LOCATION:Dream Church\, 13613 N Cave Creek Rd\, Phoenix\, AZ\, 85022\, United States
END:VEVENT
BEGIN:VEVENT
DTSTART;VALUE=DATE:20250124
DTEND;VALUE=DATE:20250126
DTSTAMP:20260426T041155
CREATED:20240819T235503Z
LAST-MODIFIED:20250106T173248Z
UID:4825-1737676800-1737849599@arizonatars.com
SUMMARY:Leadership Training Overnight
DESCRIPTION:This event is Mandatory for Members \nFriday: Leadership Training & overnighter\nSaturday: AZGOP Convention & 50/50 Raffle. \nBe there at 5pm
URL:https://arizonatars.com/event/leadership-training-overnight/
END:VEVENT
BEGIN:VEVENT
DTSTART;TZID=UTC:20250120T100000
DTEND;TZID=UTC:20250120T170000
DTSTAMP:20260426T041155
CREATED:20250106T173002Z
LAST-MODIFIED:20250106T173002Z
UID:5389-1737367200-1737392400@arizonatars.com
SUMMARY:2025 Inauguration: TRUMP!
DESCRIPTION:Live streaming will be available on ABC\, CBS\, CNN\, CSPAN\, Fox News\, MSNBC\, NBC\, and PBS\, as well as the White House’s Live Stream.
URL:https://arizonatars.com/event/2025-inauguration-trump/
END:VEVENT
BEGIN:VEVENT
DTSTART;TZID=UTC:20250118T133000
DTEND;TZID=UTC:20250118T153000
DTSTAMP:20260426T041155
CREATED:20241204T235707Z
LAST-MODIFIED:20241204T235842Z
UID:5349-1737207000-1737214200@arizonatars.com
SUMMARY:Teen Reps Faith Group Inaguration Party
DESCRIPTION:Food\, Faith\, Games\, Fun! \nBring your favorite card or board game\, and a notebook! \nLocation upon RSVP: 480-848-7806 \n 
URL:https://arizonatars.com/event/teen-reps-faith-group-inaguration-party/
END:VEVENT
BEGIN:VEVENT
DTSTART;TZID=UTC:20250111T073000
DTEND;TZID=UTC:20250111T120000
DTSTAMP:20260426T041155
CREATED:20250106T172252Z
LAST-MODIFIED:20250106T172252Z
UID:5387-1736580600-1736596800@arizonatars.com
SUMMARY:Teens are Onstage
DESCRIPTION:Teens will have 2 minutes to be onstage and speak at 9:30 \nTear down is at 6pm if they want to help \nThis event (7:30am to 12:00pm) is mandatory!
URL:https://arizonatars.com/event/teens-are-onstage/
LOCATION:Dream Church\, 13613 N Cave Creek Rd\, Phoenix\, AZ\, 85022\, United States
END:VEVENT
BEGIN:VEVENT
DTSTART;TZID=UTC:20250111T070000
DTEND;TZID=UTC:20250111T090000
DTSTAMP:20260426T041155
CREATED:20241205T000458Z
LAST-MODIFIED:20241205T000458Z
UID:5352-1736578800-1736586000@arizonatars.com
SUMMARY:MCRC / Teens Fundraiser at Dream Church
DESCRIPTION:
URL:https://arizonatars.com/event/mcrc-teens-fundraiser-at-dream-church/
LOCATION:Dream Church\, 13613 N Cave Creek Rd\, Phoenix\, AZ\, 85022\, United States
END:VEVENT
BEGIN:VEVENT
DTSTART;TZID=UTC:20250110T193000
DTEND;TZID=UTC:20250110T203000
DTSTAMP:20260426T041155
CREATED:20250106T172105Z
LAST-MODIFIED:20250106T172105Z
UID:5385-1736537400-1736541000@arizonatars.com
SUMMARY:Volunteer at the Dream Church
DESCRIPTION:4 Teens are asked to come help set up activities at the dream church \n* As of right now there are already 2 volunteers\, the more the better! \nThis would count as service hours as well. \n  \n 
URL:https://arizonatars.com/event/volunteer-at-the-dream-church/
LOCATION:Dream Church\, 13613 N Cave Creek Rd\, Phoenix\, AZ\, 85022\, United States
END:VEVENT
BEGIN:VEVENT
DTSTART;TZID=UTC:20241215T130000
DTEND;TZID=UTC:20241215T160000
DTSTAMP:20260426T041155
CREATED:20241121T202644Z
LAST-MODIFIED:20241121T202644Z
UID:5311-1734267600-1734278400@arizonatars.com
SUMMARY:Yuma Teen Reps Christmas Party
DESCRIPTION:Members Only Please RSVP for Location: (928) 580-0622 \nBring a White Elephant gift!
URL:https://arizonatars.com/event/yuma-teen-reps-christmas-party/
END:VEVENT
BEGIN:VEVENT
DTSTART;TZID=UTC:20241211T173000
DTEND;TZID=UTC:20241211T203000
DTSTAMP:20260426T041155
CREATED:20241121T203248Z
LAST-MODIFIED:20241121T203323Z
UID:5316-1733938200-1733949000@arizonatars.com
SUMMARY:GPRW Meeting & Election Results Celebration
DESCRIPTION:
URL:https://arizonatars.com/event/gprw-meeting-election-results-celebration/
LOCATION:Embassy Suites by Hilton Phoenix Downtown North\, 10 E Thomas Road Phoenix\, AZ 85012
END:VEVENT
BEGIN:VEVENT
DTSTART;TZID=UTC:20241207T183000
DTEND;TZID=UTC:20241207T200000
DTSTAMP:20260426T041155
CREATED:20241021T200930Z
LAST-MODIFIED:20241021T200930Z
UID:5270-1733596200-1733601600@arizonatars.com
SUMMARY:Southeast Valley Board Meeting
DESCRIPTION:
URL:https://arizonatars.com/event/southeast-valley-board-meeting-2/
LOCATION:The Russell’s Home
END:VEVENT
BEGIN:VEVENT
DTSTART;TZID=UTC:20241116T150000
DTEND;TZID=UTC:20241116T170000
DTSTAMP:20260426T041155
CREATED:20241114T033323Z
LAST-MODIFIED:20241114T033323Z
UID:5302-1731769200-1731776400@arizonatars.com
SUMMARY:West Valley Election Party
DESCRIPTION:Meeting & Food \nBring a Friend \nLocation upon RSVP: 6023155329
URL:https://arizonatars.com/event/west-valley-election-party/
END:VEVENT
BEGIN:VEVENT
DTSTART;VALUE=DATE:20241116
DTEND;VALUE=DATE:20241117
DTSTAMP:20260426T041155
CREATED:20241101T201208Z
LAST-MODIFIED:20241101T201208Z
UID:5295-1731715200-1731801599@arizonatars.com
SUMMARY:West Valley Board Meeting & Party
DESCRIPTION:More Information to Come \nEveryone is Invited!
URL:https://arizonatars.com/event/west-valley-board-meeting-party/
END:VEVENT
BEGIN:VEVENT
DTSTART;VALUE=DATE:20241105
DTEND;VALUE=DATE:20241106
DTSTAMP:20260426T041155
CREATED:20240926T203339Z
LAST-MODIFIED:20240926T203339Z
UID:5190-1730764800-1730851199@arizonatars.com
SUMMARY:General Election
DESCRIPTION:
URL:https://arizonatars.com/event/general-election/
END:VEVENT
BEGIN:VEVENT
DTSTART;TZID=UTC:20241102T200000
DTEND;TZID=UTC:20241102T220000
DTSTAMP:20260426T041155
CREATED:20241021T201011Z
LAST-MODIFIED:20241021T201011Z
UID:5272-1730577600-1730584800@arizonatars.com
SUMMARY:Southeast Valley Movie Night
DESCRIPTION:
URL:https://arizonatars.com/event/southeast-valley-movie-night/
LOCATION:The Russell’s Home
END:VEVENT
BEGIN:VEVENT
DTSTART;TZID=UTC:20241102T183000
DTEND;TZID=UTC:20241102T200000
DTSTAMP:20260426T041155
CREATED:20241021T200841Z
LAST-MODIFIED:20241021T200841Z
UID:5267-1730572200-1730577600@arizonatars.com
SUMMARY:Southeast Valley Board Meeting
DESCRIPTION:
URL:https://arizonatars.com/event/southeast-valley-board-meeting/
LOCATION:The Russell’s Home
END:VEVENT
BEGIN:VEVENT
DTSTART;TZID=UTC:20241029T190000
DTEND;TZID=UTC:20241029T200000
DTSTAMP:20260426T041155
CREATED:20241021T214755Z
LAST-MODIFIED:20241021T214755Z
UID:5274-1730228400-1730232000@arizonatars.com
SUMMARY:AZ State Teen Executive Board Meeting
DESCRIPTION:This meeting will be conducted through Zoom.
URL:https://arizonatars.com/event/az-state-teen-executive-board-meeting/
END:VEVENT
BEGIN:VEVENT
DTSTART;TZID=UTC:20241025T123000
DTEND;TZID=UTC:20241025T140000
DTSTAMP:20260426T041155
CREATED:20241025T203329Z
LAST-MODIFIED:20241025T203329Z
UID:5278-1729859400-1729864800@arizonatars.com
SUMMARY:Reverse Trick or Treat Super Chase Event
DESCRIPTION:Wear your costume and deliver treat bags with a fun reminder note to help remind your neighbors to vote!!
URL:https://arizonatars.com/event/reverse-trick-or-treat-super-chase-event/
LOCATION:Yo Love Frozen Yogurt\, 1900 West Germann Rd Unit 8\, Chandler\, AZ\, 85286\, United States
END:VEVENT
BEGIN:VEVENT
DTSTART;TZID=UTC:20241019T130000
DTEND;TZID=UTC:20241019T170000
DTSTAMP:20260426T041155
CREATED:20241014T220742Z
LAST-MODIFIED:20241014T220742Z
UID:5256-1729342800-1729357200@arizonatars.com
SUMMARY:South Central Low-riders Community Festival
DESCRIPTION:Speakers: Kari Lake\, Jeff Zink\, Matt Evans\, and More! \nCar Show\, Chips & Salsa Podcast Live Stream\, Food Trucks
URL:https://arizonatars.com/event/south-central-low-riders-community-festival/
LOCATION:Highline Park\, 1346 E South Mountain Ave Rd\, Phoeniz\, AZ\, 85042\, United States
END:VEVENT
BEGIN:VEVENT
DTSTART;TZID=UTC:20241019T090000
DTEND;TZID=UTC:20241019T170000
DTSTAMP:20260426T041155
CREATED:20240926T203151Z
LAST-MODIFIED:20240926T203151Z
UID:5188-1729328400-1729357200@arizonatars.com
SUMMARY:Chase the Vote With TPUSA & WV Teens
DESCRIPTION:Please contact Erin (520-424-4187) for more info on Chase the Vote events. All Teens are invited to help.
URL:https://arizonatars.com/event/chase-the-vote-with-tpusa-wv-teens/
END:VEVENT
BEGIN:VEVENT
DTSTART;TZID=UTC:20241018T173000
DTEND;TZID=UTC:20241018T193000
DTSTAMP:20260426T041155
CREATED:20241008T224453Z
LAST-MODIFIED:20241008T224724Z
UID:5243-1729272600-1729279800@arizonatars.com
SUMMARY:We the People Ahwatukee Costume Party
DESCRIPTION:RSVP: 602-935-9950 or wethepeopleahwatukee@gmail.com
URL:https://arizonatars.com/event/we-the-people-ahwatukee-costume-party/
LOCATION:Tukee’s Sports Grill\, 4804 E Chandler Blvd\, Ahwatukee\, AZ\, 85048\, United States
END:VEVENT
BEGIN:VEVENT
DTSTART;VALUE=DATE:20241017
DTEND;VALUE=DATE:20241020
DTSTAMP:20260426T041155
CREATED:20240926T203014Z
LAST-MODIFIED:20240926T203014Z
UID:5186-1729123200-1729382399@arizonatars.com
SUMMARY:Arizona Federated Womens Fall Conference
DESCRIPTION:Mrs. Money will be driving down with another advisor. \nTARs can take 3 Teens. \nRSVP at 480-231-8972. \nWe have hotel rooms reserved\,  the event is fun\, & we can sell Raffle tickets.
URL:https://arizonatars.com/event/arizona-federated-womens-fall-conference/
END:VEVENT
BEGIN:VEVENT
DTSTART;TZID=UTC:20241012T160000
DTEND;TZID=UTC:20241012T190000
DTSTAMP:20260426T041155
CREATED:20241010T202746Z
LAST-MODIFIED:20241010T202746Z
UID:5249-1728748800-1728759600@arizonatars.com
SUMMARY:Super Chase
DESCRIPTION:Join for a ballot chasing event and help get out the vote in November. \nHosted by Turning Point Action
URL:https://arizonatars.com/event/super-chase/
LOCATION:Four Silos\, 143 S Higley Rd\, Gilbert\, AZ\, 85048\, United States
END:VEVENT
BEGIN:VEVENT
DTSTART;TZID=UTC:20241012T110000
DTEND;TZID=UTC:20241012T150000
DTSTAMP:20260426T041155
CREATED:20240924T030521Z
LAST-MODIFIED:20240924T030521Z
UID:5176-1728730800-1728745200@arizonatars.com
SUMMARY:Lincoln Day Luncheon
DESCRIPTION:$50 for PC’s \n$200 for Vendor Table \n  \nRSVP: MaricopaGOP.org/2024-Lincoln-Day-Lunch/
URL:https://arizonatars.com/event/lincoln-day-luncheon/
LOCATION:DoubleTree by Hilton Hotel\, 2100 South Priest Drive\, Tempe\, AZ\, 85282\, United States
END:VEVENT
BEGIN:VEVENT
DTSTART;TZID=UTC:20241009T150000
DTEND;TZID=UTC:20241009T170000
DTSTAMP:20260426T041155
CREATED:20241008T042859Z
LAST-MODIFIED:20241008T042940Z
UID:5231-1728486000-1728493200@arizonatars.com
SUMMARY:Super-Chase the Vote
DESCRIPTION:Donald Trump Jr. in Attendance \nHosted by Turning Point Action
URL:https://arizonatars.com/event/super-chase-the-vote/
LOCATION:Desert Foothills Park\, 1001 E Marketplace Way\, Phoenix\, AZ\, 85048\, United States
END:VEVENT
BEGIN:VEVENT
DTSTART;TZID=UTC:20241007T190000
DTEND;TZID=UTC:20241007T200000
DTSTAMP:20260426T041155
CREATED:20240926T220743Z
LAST-MODIFIED:20240926T220743Z
UID:5193-1728327600-1728331200@arizonatars.com
SUMMARY:State Executive Board Meeting
DESCRIPTION:This Meeting is Via Zoom.
URL:https://arizonatars.com/event/state-executive-board-meeting/
END:VEVENT
BEGIN:VEVENT
DTSTART;TZID=UTC:20241005T183000
DTEND;TZID=UTC:20241005T200000
DTSTAMP:20260426T041155
CREATED:20240926T223153Z
LAST-MODIFIED:20240926T223153Z
UID:5211-1728153000-1728158400@arizonatars.com
SUMMARY:SEV Chapter Meeting
DESCRIPTION:
URL:https://arizonatars.com/event/sev-chapter-meeting/
LOCATION:Russell’s Home
END:VEVENT
END:VCALENDAR