BEGIN:VCALENDAR
VERSION:2.0
PRODID:-//Arizona Teenage Republicans - ECPv6.15.20//NONSGML v1.0//EN
CALSCALE:GREGORIAN
METHOD:PUBLISH
X-WR-CALNAME:Arizona Teenage Republicans
X-ORIGINAL-URL:https://arizonatars.com
X-WR-CALDESC:Events for Arizona Teenage Republicans
REFRESH-INTERVAL;VALUE=DURATION:PT1H
X-Robots-Tag:noindex
X-PUBLISHED-TTL:PT1H
BEGIN:VTIMEZONE
TZID:UTC
BEGIN:STANDARD
TZOFFSETFROM:+0000
TZOFFSETTO:+0000
TZNAME:UTC
DTSTART:20230101T000000
END:STANDARD
END:VTIMEZONE
BEGIN:VEVENT
DTSTART;TZID=UTC:20240831T150000
DTEND;TZID=UTC:20240831T170000
DTSTAMP:20260426T015113
CREATED:20240805T202008Z
LAST-MODIFIED:20240805T205314Z
UID:4686-1725116400-1725123600@arizonatars.com
SUMMARY:West Valley Election
DESCRIPTION:West Valley Election \nRSVP for Location: 480- 231-8972
URL:https://arizonatars.com/event/west-valley-election/
LOCATION:Gabby Ehmann’s Home\, United States
END:VEVENT
BEGIN:VEVENT
DTSTART;TZID=UTC:20240824T070000
DTEND;TZID=UTC:20240824T120000
DTSTAMP:20260426T015113
CREATED:20240805T021531Z
LAST-MODIFIED:20240805T213156Z
UID:4679-1724482800-1724500800@arizonatars.com
SUMMARY:AZ Free Summit
DESCRIPTION:AZ Free Summit
URL:https://arizonatars.com/event/az-free-summit/
LOCATION:Scottsdale Embassy Suites\, 5001 N. Scottsdale Rd\, Scottsdale\, AZ\, AZ\, 85250\, United States
END:VEVENT
BEGIN:VEVENT
DTSTART;TZID=UTC:20240823T160000
DTEND;TZID=UTC:20240823T180000
DTSTAMP:20260426T015113
CREATED:20240821T004630Z
LAST-MODIFIED:20240821T005034Z
UID:4836-1724428800-1724436000@arizonatars.com
SUMMARY:Trump Rally
DESCRIPTION:
URL:https://arizonatars.com/event/trump-rally-2/
LOCATION:Glendale\, AZ
END:VEVENT
BEGIN:VEVENT
DTSTART;TZID=UTC:20240817T110000
DTEND;TZID=UTC:20240817T170000
DTSTAMP:20260426T015113
CREATED:20240805T213024Z
LAST-MODIFIED:20240814T231650Z
UID:4724-1723892400-1723914000@arizonatars.com
SUMMARY:SEV Chase the Vote
DESCRIPTION:South East Valley Chase the Vote \nRSVP: 520-424-4187
URL:https://arizonatars.com/event/sev-chase-the-vote/
LOCATION:Money Residence\, 14821 S 31st Way\, Phoenix\, AZ\, 85048\, United States
END:VEVENT
BEGIN:VEVENT
DTSTART;TZID=UTC:20240814T080000
DTEND;TZID=UTC:20240814T170000
DTSTAMP:20260426T015113
CREATED:20240805T020215Z
LAST-MODIFIED:20240805T210022Z
UID:4675-1723622400-1723654800@arizonatars.com
SUMMARY:ARW Fundraiser Breakfast
DESCRIPTION:Arizona Republican Women Fundraiser Breakfast
URL:https://arizonatars.com/event/arw-fundraiser-breakfast/
LOCATION:Buscuits Restaurant\, 1241 E Chandler Ave.\, Phoenix\, AZ\, 85048\, United States
END:VEVENT
BEGIN:VEVENT
DTSTART;TZID=UTC:20240810T100000
DTEND;TZID=UTC:20240810T150000
DTSTAMP:20260426T015113
CREATED:20240808T042115Z
LAST-MODIFIED:20240808T042115Z
UID:4760-1723284000-1723302000@arizonatars.com
SUMMARY:Lake Day
DESCRIPTION:Lake Day
URL:https://arizonatars.com/event/lake-day/
LOCATION:Lake Pleasant
END:VEVENT
BEGIN:VEVENT
DTSTART;TZID=UTC:20240803T183000
DTEND;TZID=UTC:20240803T193000
DTSTAMP:20260426T015113
CREATED:20240805T205749Z
LAST-MODIFIED:20240805T210129Z
UID:4710-1722709800-1722713400@arizonatars.com
SUMMARY:SEV Meeting
DESCRIPTION:Southeast Valley Meeting TARs
URL:https://arizonatars.com/event/sev-meeting/
LOCATION:AZ
END:VEVENT
END:VCALENDAR