BEGIN:VCALENDAR
VERSION:2.0
PRODID:-//Arizona Teenage Republicans - ECPv6.15.20//NONSGML v1.0//EN
CALSCALE:GREGORIAN
METHOD:PUBLISH
X-ORIGINAL-URL:https://arizonatars.com
X-WR-CALDESC:Events for Arizona Teenage Republicans
REFRESH-INTERVAL;VALUE=DURATION:PT1H
X-Robots-Tag:noindex
X-PUBLISHED-TTL:PT1H
BEGIN:VTIMEZONE
TZID:UTC
BEGIN:STANDARD
TZOFFSETFROM:+0000
TZOFFSETTO:+0000
TZNAME:UTC
DTSTART:20240101T000000
END:STANDARD
END:VTIMEZONE
BEGIN:VEVENT
DTSTART;TZID=UTC:20251113T180000
DTEND;TZID=UTC:20251113T193000
DTSTAMP:20260425T215006
CREATED:20251031T040452Z
LAST-MODIFIED:20251031T040452Z
UID:6640-1763056800-1763062200@arizonatars.com
SUMMARY:Yuma Teenage Republicans Meeting w/ Special Speaker
DESCRIPTION:Guest Speaker is the Honorable Mayor of Yuma\, Doug Nicholls
URL:https://arizonatars.com/event/yuma-teenage-republicans-meeting-w-special-speaker/
LOCATION:GOP Headquarters\, 255 w 24th Street\, Suite #1
END:VEVENT
BEGIN:VEVENT
DTSTART;TZID=UTC:20251117T170000
DTEND;TZID=UTC:20251117T190000
DTSTAMP:20260425T215006
CREATED:20251108T164648Z
LAST-MODIFIED:20251108T164648Z
UID:6652-1763398800-1763406000@arizonatars.com
SUMMARY:SEV Election\, Games\, & Food at the AfP Office!
DESCRIPTION:
URL:https://arizonatars.com/event/sev-election-games-food-at-the-afp-office/
LOCATION:4745 North 7th Street Phoenix\, AZ 85014
END:VEVENT
BEGIN:VEVENT
DTSTART;TZID=UTC:20251122T110000
DTEND;TZID=UTC:20251122T130000
DTSTAMP:20260425T215006
CREATED:20251031T035337Z
LAST-MODIFIED:20251031T183350Z
UID:6628-1763809200-1763816400@arizonatars.com
SUMMARY:Friendsgiving Luncheon
DESCRIPTION:Navajo Nation is hoping to form a Teen Chapter and is hoping Teens can attend this event to share ideas
URL:https://arizonatars.com/event/friendsgiving-luncheon/
END:VEVENT
BEGIN:VEVENT
DTSTART;VALUE=DATE:20251124
DTEND;VALUE=DATE:20251202
DTSTAMP:20260425T215006
CREATED:20251124T173744Z
LAST-MODIFIED:20251124T173744Z
UID:6756-1763942400-1764633599@arizonatars.com
SUMMARY:SEV Toy Drive
DESCRIPTION:Donate new\, unwrapped toys \nAges:  7 yrs old and under \nCall: (602) 639-1375
URL:https://arizonatars.com/event/sev-toy-drive/
LOCATION:New Life Pregnancy Center\, 1431 E Southern Ave\, Phoenix
END:VEVENT
BEGIN:VEVENT
DTSTART;TZID=UTC:20251125T110000
DTEND;TZID=UTC:20251125T130000
DTSTAMP:20260425T215006
CREATED:20251124T175548Z
LAST-MODIFIED:20251124T175548Z
UID:6772-1764068400-1764075600@arizonatars.com
SUMMARY:Yuma Crossroads Mission Thanksgiving Dinner
DESCRIPTION:
URL:https://arizonatars.com/event/yuma-crossroads-mission-thanksgiving-dinner/
LOCATION:944 S Arizona Avenue  Yuma\, AZ
END:VEVENT
BEGIN:VEVENT
DTSTART;TZID=UTC:20251204T180000
DTEND;TZID=UTC:20251204T190000
DTSTAMP:20260425T215006
CREATED:20251124T173255Z
LAST-MODIFIED:20251124T173338Z
UID:6753-1764871200-1764874800@arizonatars.com
SUMMARY:Colorado River Tea Party - Christmas Potluck Party
DESCRIPTION:Guest Speaker: Sheriff Wilmont
URL:https://arizonatars.com/event/colorado-river-tea-party-christmas-potluck-party/
LOCATION:6480 Hwy 95  Yuma\, AZ 85365
END:VEVENT
BEGIN:VEVENT
DTSTART;VALUE=DATE:20251205
DTEND;VALUE=DATE:20251206
DTSTAMP:20260425T215006
CREATED:20251117T164849Z
LAST-MODIFIED:20251117T164849Z
UID:6726-1764892800-1764979199@arizonatars.com
SUMMARY:RWOW Christmas Luncheon
DESCRIPTION:This Christmas we celebrate the Golden Era\, please wear Gold! \nMenu: Soup\, Salad & Sandwich Bar \nCost: $35
URL:https://arizonatars.com/event/rwow-christmas-luncheon/
END:VEVENT
BEGIN:VEVENT
DTSTART;VALUE=DATE:20251213
DTEND;VALUE=DATE:20251214
DTSTAMP:20260425T215006
CREATED:20251031T035410Z
LAST-MODIFIED:20251031T035410Z
UID:6630-1765584000-1765670399@arizonatars.com
SUMMARY:Hometown Christmas Parade
DESCRIPTION:Hometown Christmas Parade @ Glendale\, AZ – Youth needed to help out Turning Point https://www.hcparade.org
URL:https://arizonatars.com/event/hometown-christmas-parade/
END:VEVENT
BEGIN:VEVENT
DTSTART;TZID=UTC:20251213T130000
DTEND;TZID=UTC:20251213T160000
DTSTAMP:20260425T215006
CREATED:20251127T033759Z
LAST-MODIFIED:20251212T173901Z
UID:6795-1765630800-1765641600@arizonatars.com
SUMMARY:STV Christmas Potluck - CANCELED
DESCRIPTION:Please bring a dish to share! \nPlease bring a white elephant gift\, $25 or less!
URL:https://arizonatars.com/event/stv-christmas-potluck/
LOCATION:37348 N Azteca Dr
END:VEVENT
BEGIN:VEVENT
DTSTART;TZID=UTC:20251213T130000
DTEND;TZID=UTC:20251213T170000
DTSTAMP:20260425T215006
CREATED:20251124T175957Z
LAST-MODIFIED:20251124T180148Z
UID:6775-1765630800-1765645200@arizonatars.com
SUMMARY:Yuma Christmas Party (Members Only)
DESCRIPTION:White Elephant Rules: bring a gift no more than $25 or bring a funny\, gag gift from home\, make sure it is wrapped! \nPlease RSVP Early: (928) 580-0622
URL:https://arizonatars.com/event/yuma-christmas-party-members-only/
LOCATION:WIld River Family Entertainment Center\, 15136 Avenue B\, Somerton\, AZ\, 85350\, United States
END:VEVENT
BEGIN:VEVENT
DTSTART;TZID=UTC:20251217T184500
DTEND;TZID=UTC:20251217T200000
DTSTAMP:20260425T215006
CREATED:20251124T174247Z
LAST-MODIFIED:20251124T174259Z
UID:6762-1765997100-1766001600@arizonatars.com
SUMMARY:AFP & Libre Christmas Party
DESCRIPTION:To RSVP Call: (602) 920-0470
URL:https://arizonatars.com/event/afp-libre-christmas-party/
LOCATION:4745 N 7th St Suite 429 Phoenix\, AZ 85041
END:VEVENT
BEGIN:VEVENT
DTSTART;TZID=UTC:20260103T150000
DTEND;TZID=UTC:20260103T170000
DTSTAMP:20260425T215006
CREATED:20251124T174621Z
LAST-MODIFIED:20251124T174621Z
UID:6765-1767452400-1767459600@arizonatars.com
SUMMARY:TARs Women's Caucus Frappuccinos 'n Face Masks
DESCRIPTION:RSVP to: (602) 639-1375
URL:https://arizonatars.com/event/tars-womens-caucus-frappuccinos-n-face-masks/
LOCATION:Anna Rosado’s House
END:VEVENT
BEGIN:VEVENT
DTSTART;VALUE=DATE:20260110
DTEND;VALUE=DATE:20260111
DTSTAMP:20260425T215006
CREATED:20251031T035449Z
LAST-MODIFIED:20251031T035449Z
UID:6632-1768003200-1768089599@arizonatars.com
SUMMARY:MCRC Convention
DESCRIPTION:Save the Date for MCRC Convention Mandatory for Teen Leaders- we sell breakfast items and Raffle tickets and get up on stage to speak.
URL:https://arizonatars.com/event/mcrc-convention/
END:VEVENT
BEGIN:VEVENT
DTSTART;TZID=UTC:20260122T080000
DTEND;TZID=UTC:20260122T083000
DTSTAMP:20260425T215006
CREATED:20260106T034443Z
LAST-MODIFIED:20260106T034443Z
UID:6836-1769068800-1769070600@arizonatars.com
SUMMARY:Club America at Desert Vista High School
DESCRIPTION:
URL:https://arizonatars.com/event/club-america-at-desert-vista-high-school/
END:VEVENT
BEGIN:VEVENT
DTSTART;VALUE=DATE:20260123
DTEND;VALUE=DATE:20260125
DTSTAMP:20260425T215006
CREATED:20251031T035619Z
LAST-MODIFIED:20251031T035619Z
UID:6634-1769126400-1769299199@arizonatars.com
SUMMARY:State Training Overnighter
DESCRIPTION:This will be in Prescott Valley. We have an AIRBNB rented for this fun training event! This is mandatory for all Teen Leaders- all Teens and Advisors are invited.
URL:https://arizonatars.com/event/state-training-overnighter/
END:VEVENT
BEGIN:VEVENT
DTSTART;VALUE=DATE:20260123
DTEND;VALUE=DATE:20260125
DTSTAMP:20260425T215006
CREATED:20251031T035650Z
LAST-MODIFIED:20251031T035650Z
UID:6636-1769126400-1769299199@arizonatars.com
SUMMARY:AZGOP Convention
DESCRIPTION:
URL:https://arizonatars.com/event/azgop-convention/
END:VEVENT
BEGIN:VEVENT
DTSTART;TZID=UTC:20260130T180000
DTEND;TZID=UTC:20260130T200000
DTSTAMP:20260425T215006
CREATED:20260116T181545Z
LAST-MODIFIED:20260116T181545Z
UID:6843-1769796000-1769803200@arizonatars.com
SUMMARY:Faith\, Family & Potluck Night! BY TPAction & Faith Coalitionv
DESCRIPTION:Address Provided Upon RSVP. \nRSVP at TPAction.com/AZPotluck
URL:https://arizonatars.com/event/faith-family-potluck-night-by-tpaction-faith-coalitionv/
END:VEVENT
BEGIN:VEVENT
DTSTART;TZID=UTC:20260221T140000
DTEND;TZID=UTC:20260221T170000
DTSTAMP:20260425T215006
CREATED:20260130T161526Z
LAST-MODIFIED:20260130T161526Z
UID:6854-1771682400-1771693200@arizonatars.com
SUMMARY:Special Election Games & Food
DESCRIPTION:Special Election for State Vice Chair\, Treasurer\, and 2nd Maricopa County Representative
URL:https://arizonatars.com/event/special-election-games-food/
LOCATION:MCRC Building\, 7030 West Oakland Street\, Suite 101. Chandler\, AZ 85226
END:VEVENT
BEGIN:VEVENT
DTSTART;TZID=UTC:20260228T100000
DTEND;TZID=UTC:20260228T130000
DTSTAMP:20260425T215006
CREATED:20251202T213613Z
LAST-MODIFIED:20251202T213613Z
UID:6804-1772272800-1772283600@arizonatars.com
SUMMARY:Arizona March For Life
DESCRIPTION:Pre-rally events 10 am \nRally 11 am \nMarch 12 pm \n 
URL:https://arizonatars.com/event/arizona-march-for-life-2/
LOCATION:Wesley Bolin Memorial Plaza\, 1700 W. Washington Phoenix\, AZ
END:VEVENT
BEGIN:VEVENT
DTSTART;TZID=UTC:20260312T180000
DTEND;TZID=UTC:20260312T193000
DTSTAMP:20260425T215006
CREATED:20260302T212125Z
LAST-MODIFIED:20260302T212125Z
UID:6912-1773338400-1773343800@arizonatars.com
SUMMARY:Yuma March Meeting
DESCRIPTION:
URL:https://arizonatars.com/event/yuma-march-meeting/
LOCATION:GOP Headquarters\, 255 w 24th Street\, Suite #1
END:VEVENT
BEGIN:VEVENT
DTSTART;TZID=UTC:20260319T170000
DTEND;TZID=UTC:20260319T200000
DTSTAMP:20260425T215006
CREATED:20260220T195159Z
LAST-MODIFIED:20260220T195159Z
UID:6891-1773939600-1773950400@arizonatars.com
SUMMARY:Yuma Lincoln Day Dinner
DESCRIPTION:Doors open at 5pm to meet candidates & bid in a silent auction.
URL:https://arizonatars.com/event/yuma-lincoln-day-dinner/
LOCATION:Britain’s Farm\, 4330 W. Riverside Dr.\, Yuma\, AZ\, United States
END:VEVENT
BEGIN:VEVENT
DTSTART;TZID=UTC:20260328T180000
DTEND;TZID=UTC:20260328T200000
DTSTAMP:20260425T215006
CREATED:20260313T072855Z
LAST-MODIFIED:20260313T072855Z
UID:6932-1774720800-1774728000@arizonatars.com
SUMMARY:AZ Attorney General Warren Peterson Meet & Greet
DESCRIPTION:Please RSVP to: (602) 339-8031 or crystal@923az.com
URL:https://arizonatars.com/event/az-attorney-general-warren-peterson-meet-greet/
END:VEVENT
END:VCALENDAR