BEGIN:VCALENDAR
VERSION:2.0
PRODID:-//Arizona Teenage Republicans - ECPv6.15.20//NONSGML v1.0//EN
CALSCALE:GREGORIAN
METHOD:PUBLISH
X-WR-CALNAME:Arizona Teenage Republicans
X-ORIGINAL-URL:https://arizonatars.com
X-WR-CALDESC:Events for Arizona Teenage Republicans
REFRESH-INTERVAL;VALUE=DURATION:PT1H
X-Robots-Tag:noindex
X-PUBLISHED-TTL:PT1H
BEGIN:VTIMEZONE
TZID:UTC
BEGIN:STANDARD
TZOFFSETFROM:+0000
TZOFFSETTO:+0000
TZNAME:UTC
DTSTART:20240101T000000
END:STANDARD
END:VTIMEZONE
BEGIN:VEVENT
DTSTART;VALUE=DATE:20251025
DTEND;VALUE=DATE:20251026
DTSTAMP:20260425T212735
CREATED:20251010T193331Z
LAST-MODIFIED:20251010T193331Z
UID:6470-1761350400-1761436799@arizonatars.com
SUMMARY:Double Down for Dandy
DESCRIPTION:Featured Guest: Nico Delgado\, Chairman of NicoPAC
URL:https://arizonatars.com/event/double-down-for-dandy/
LOCATION:Empire Scottsdale\, 3625 N Bishop Ln\, Scottsdale\, AZ\, 85251
END:VEVENT
END:VCALENDAR