BEGIN:VCALENDAR
VERSION:2.0
PRODID:-//Arizona Teenage Republicans - ECPv6.15.20//NONSGML v1.0//EN
CALSCALE:GREGORIAN
METHOD:PUBLISH
X-WR-CALNAME:Arizona Teenage Republicans
X-ORIGINAL-URL:https://arizonatars.com
X-WR-CALDESC:Events for Arizona Teenage Republicans
REFRESH-INTERVAL;VALUE=DURATION:PT1H
X-Robots-Tag:noindex
X-PUBLISHED-TTL:PT1H
BEGIN:VTIMEZONE
TZID:UTC
BEGIN:STANDARD
TZOFFSETFROM:+0000
TZOFFSETTO:+0000
TZNAME:UTC
DTSTART:20240101T000000
END:STANDARD
END:VTIMEZONE
BEGIN:VEVENT
DTSTART;TZID=UTC:20251017T170000
DTEND;TZID=UTC:20251017T190000
DTSTAMP:20260425T213415
CREATED:20251008T212810Z
LAST-MODIFIED:20251010T192044Z
UID:6453-1760720400-1760727600@arizonatars.com
SUMMARY:Glow-Up Mini Golf Night
DESCRIPTION:Enjoy a fun night at Gilbert’s immersive 3D Mini Golf! Hosted by TPAction’s Gen-Z Coalition. \nRSVP: https://forms.gle/3Qm615Qxos3uhVsQ9
URL:https://arizonatars.com/event/glow-up-mini-golf-night/
LOCATION:3D Mini Golf\, 785 W Warner Rd Suite A107\, Gilbert\, AZ\, 85233\, United States
END:VEVENT
END:VCALENDAR