BEGIN:VCALENDAR
VERSION:2.0
PRODID:-//Arizona Teenage Republicans - ECPv6.15.20//NONSGML v1.0//EN
CALSCALE:GREGORIAN
METHOD:PUBLISH
X-ORIGINAL-URL:https://arizonatars.com
X-WR-CALDESC:Events for Arizona Teenage Republicans
REFRESH-INTERVAL;VALUE=DURATION:PT1H
X-Robots-Tag:noindex
X-PUBLISHED-TTL:PT1H
BEGIN:VTIMEZONE
TZID:UTC
BEGIN:STANDARD
TZOFFSETFROM:+0000
TZOFFSETTO:+0000
TZNAME:UTC
DTSTART:20240101T000000
END:STANDARD
END:VTIMEZONE
BEGIN:VEVENT
DTSTART;TZID=UTC:20251013T180000
DTEND;TZID=UTC:20251013T190000
DTSTAMP:20260425T213253
CREATED:20251013T162024Z
LAST-MODIFIED:20251013T163107Z
UID:6547-1760378400-1760382000@arizonatars.com
SUMMARY:New Advisors Training
DESCRIPTION:This will be over zoom! \nThis is for new advisors to go over all of the “nuts & bolts” of TARs!
URL:https://arizonatars.com/event/new-advisors-training/
END:VEVENT
END:VCALENDAR