BEGIN:VCALENDAR
VERSION:2.0
PRODID:-//Arizona Teenage Republicans - ECPv6.15.20//NONSGML v1.0//EN
CALSCALE:GREGORIAN
METHOD:PUBLISH
X-WR-CALNAME:Arizona Teenage Republicans
X-ORIGINAL-URL:https://arizonatars.com
X-WR-CALDESC:Events for Arizona Teenage Republicans
REFRESH-INTERVAL;VALUE=DURATION:PT1H
X-Robots-Tag:noindex
X-PUBLISHED-TTL:PT1H
BEGIN:VTIMEZONE
TZID:UTC
BEGIN:STANDARD
TZOFFSETFROM:+0000
TZOFFSETTO:+0000
TZNAME:UTC
DTSTART:20240101T000000
END:STANDARD
END:VTIMEZONE
BEGIN:VEVENT
DTSTART;TZID=UTC:20251011T083000
DTEND;TZID=UTC:20251011T133000
DTSTAMP:20260425T212735
CREATED:20250928T002835Z
LAST-MODIFIED:20250928T002835Z
UID:6305-1760171400-1760189400@arizonatars.com
SUMMARY:Arizona Fed Rep Women's Conference Day 3
DESCRIPTION:Teens will have opportunities to attend and be pages (help run errands for Congressmen) at the AZFRW Conference!
URL:https://arizonatars.com/event/arizona-fed-rep-womens-conference-day-3/
LOCATION:DoubleTree by Hilton Phoenix Mesa\, 1011 W Holmes Ave\, Mesa\, AZ\, 85210\, United States
END:VEVENT
BEGIN:VEVENT
DTSTART;TZID=UTC:20251011T160000
DTEND;TZID=UTC:20251011T190000
DTSTAMP:20260425T212735
CREATED:20250905T154815Z
LAST-MODIFIED:20250905T154815Z
UID:6019-1760198400-1760209200@arizonatars.com
SUMMARY:TP Action Happy Harvest Fall Kickoff
DESCRIPTION:” Join us for a FREE event with food\, music\, games and prizes!” \nPlease RSVP at: http://www.tpaction.com/FallKickoff
URL:https://arizonatars.com/event/tp-action-happy-harvest-fall-kickoff/
LOCATION:Mother Nature’s Farm\, 1663 E Baseline Road\, Gilbert\, AZ\, United States
END:VEVENT
BEGIN:VEVENT
DTSTART;TZID=UTC:20251011T180000
DTEND;TZID=UTC:20251011T193000
DTSTAMP:20260425T212735
CREATED:20250904T155932Z
LAST-MODIFIED:20250928T001943Z
UID:6013-1760205600-1760211000@arizonatars.com
SUMMARY:Yuma Murder Mystery
DESCRIPTION:
URL:https://arizonatars.com/event/yuma-murder-mystery/
END:VEVENT
END:VCALENDAR