BEGIN:VCALENDAR
VERSION:2.0
PRODID:-//Arizona Teenage Republicans - ECPv6.15.20//NONSGML v1.0//EN
CALSCALE:GREGORIAN
METHOD:PUBLISH
X-WR-CALNAME:Arizona Teenage Republicans
X-ORIGINAL-URL:https://arizonatars.com
X-WR-CALDESC:Events for Arizona Teenage Republicans
REFRESH-INTERVAL;VALUE=DURATION:PT1H
X-Robots-Tag:noindex
X-PUBLISHED-TTL:PT1H
BEGIN:VTIMEZONE
TZID:UTC
BEGIN:STANDARD
TZOFFSETFROM:+0000
TZOFFSETTO:+0000
TZNAME:UTC
DTSTART:20240101T000000
END:STANDARD
END:VTIMEZONE
BEGIN:VEVENT
DTSTART;TZID=UTC:20251010T080000
DTEND;TZID=UTC:20251010T203000
DTSTAMP:20260425T212736
CREATED:20250928T002609Z
LAST-MODIFIED:20250928T002609Z
UID:6302-1760083200-1760128200@arizonatars.com
SUMMARY:Arizona Fed Rep Women's Conference Day 2
DESCRIPTION:Teens will have opportunities to attend and be pages (help run errands for Congressmen) at the AZFRW Conference! Sign Up via Both QR Codes!
URL:https://arizonatars.com/event/arizona-fed-rep-womens-conference-day-2/
LOCATION:DoubleTree by Hilton Phoenix Mesa\, 1011 W Holmes Ave\, Mesa\, AZ\, 85210\, United States
END:VEVENT
END:VCALENDAR