BEGIN:VCALENDAR
VERSION:2.0
PRODID:-//Arizona Teenage Republicans - ECPv6.15.20//NONSGML v1.0//EN
CALSCALE:GREGORIAN
METHOD:PUBLISH
X-WR-CALNAME:Arizona Teenage Republicans
X-ORIGINAL-URL:https://arizonatars.com
X-WR-CALDESC:Events for Arizona Teenage Republicans
REFRESH-INTERVAL;VALUE=DURATION:PT1H
X-Robots-Tag:noindex
X-PUBLISHED-TTL:PT1H
BEGIN:VTIMEZONE
TZID:UTC
BEGIN:STANDARD
TZOFFSETFROM:+0000
TZOFFSETTO:+0000
TZNAME:UTC
DTSTART:20240101T000000
END:STANDARD
END:VTIMEZONE
BEGIN:VEVENT
DTSTART;TZID=UTC:20251009T083000
DTEND;TZID=UTC:20251009T200000
DTSTAMP:20260425T213522
CREATED:20250928T002352Z
LAST-MODIFIED:20250928T002452Z
UID:6298-1759998600-1760040000@arizonatars.com
SUMMARY:Arizona Fed Rep Women's Conference Day 1
DESCRIPTION:Teens will have opportunities to attend and be pages (help run errands for congressmen) at the AZFRW Conference!
URL:https://arizonatars.com/event/arizona-fed-rep-womens-conference/
LOCATION:DoubleTree by Hilton Phoenix Mesa\, 1011 W Holmes Ave\, Mesa\, AZ\, 85210\, United States
END:VEVENT
BEGIN:VEVENT
DTSTART;TZID=UTC:20251009T180000
DTEND;TZID=UTC:20251009T193000
DTSTAMP:20260425T213522
CREATED:20251006T024410Z
LAST-MODIFIED:20251006T024410Z
UID:6349-1760032800-1760038200@arizonatars.com
SUMMARY:Yuma Teenage Republican Meeting
DESCRIPTION:GOP Headquarters\, Suite #1
URL:https://arizonatars.com/event/yuma-teenage-republican-meeting/
LOCATION:Yuma GOP HQ\, 255 W. 24th Street\, Yuma\, AZ\, 85364\, United States
END:VEVENT
END:VCALENDAR