BEGIN:VCALENDAR
VERSION:2.0
PRODID:-//Arizona Teenage Republicans - ECPv6.15.20//NONSGML v1.0//EN
CALSCALE:GREGORIAN
METHOD:PUBLISH
X-WR-CALNAME:Arizona Teenage Republicans
X-ORIGINAL-URL:https://arizonatars.com
X-WR-CALDESC:Events for Arizona Teenage Republicans
REFRESH-INTERVAL;VALUE=DURATION:PT1H
X-Robots-Tag:noindex
X-PUBLISHED-TTL:PT1H
BEGIN:VTIMEZONE
TZID:UTC
BEGIN:STANDARD
TZOFFSETFROM:+0000
TZOFFSETTO:+0000
TZNAME:UTC
DTSTART:20240101T000000
END:STANDARD
END:VTIMEZONE
BEGIN:VEVENT
DTSTART;TZID=UTC:20250912T180000
DTEND;TZID=UTC:20250912T200000
DTSTAMP:20260425T224723
CREATED:20250909T181331Z
LAST-MODIFIED:20250909T181331Z
UID:6030-1757700000-1757707200@arizonatars.com
SUMMARY:Meet & Greet w/ Congressman Andy Biggs
DESCRIPTION:GATE CODE: #4949
URL:https://arizonatars.com/event/meet-greet-w-congressman-andy-biggs/
LOCATION:Fieldstone Estates\, 892 E Fieldstone Place\, Chandler\, AZ\, United States
END:VEVENT
END:VCALENDAR