BEGIN:VCALENDAR
VERSION:2.0
PRODID:-//Arizona Teenage Republicans - ECPv6.15.20//NONSGML v1.0//EN
CALSCALE:GREGORIAN
METHOD:PUBLISH
X-WR-CALNAME:Arizona Teenage Republicans
X-ORIGINAL-URL:https://arizonatars.com
X-WR-CALDESC:Events for Arizona Teenage Republicans
REFRESH-INTERVAL;VALUE=DURATION:PT1H
X-Robots-Tag:noindex
X-PUBLISHED-TTL:PT1H
BEGIN:VTIMEZONE
TZID:UTC
BEGIN:STANDARD
TZOFFSETFROM:+0000
TZOFFSETTO:+0000
TZNAME:UTC
DTSTART:20240101T000000
END:STANDARD
END:VTIMEZONE
BEGIN:VEVENT
DTSTART;TZID=UTC:20250802T180000
DTEND;TZID=UTC:20250802T200000
DTSTAMP:20260426T000244
CREATED:20250721T171218Z
LAST-MODIFIED:20250721T171218Z
UID:5856-1754157600-1754164800@arizonatars.com
SUMMARY:Yuma Back to School Open House & Mixer
DESCRIPTION:
URL:https://arizonatars.com/event/yuma-back-to-school-open-house-mixer/
LOCATION:GOP Headquarters\, 255 w 24th Street\, Suite #1
END:VEVENT
END:VCALENDAR