BEGIN:VCALENDAR
VERSION:2.0
PRODID:-//Arizona Teenage Republicans - ECPv6.15.20//NONSGML v1.0//EN
CALSCALE:GREGORIAN
METHOD:PUBLISH
X-WR-CALNAME:Arizona Teenage Republicans
X-ORIGINAL-URL:https://arizonatars.com
X-WR-CALDESC:Events for Arizona Teenage Republicans
REFRESH-INTERVAL;VALUE=DURATION:PT1H
X-Robots-Tag:noindex
X-PUBLISHED-TTL:PT1H
BEGIN:VTIMEZONE
TZID:UTC
BEGIN:STANDARD
TZOFFSETFROM:+0000
TZOFFSETTO:+0000
TZNAME:UTC
DTSTART:20240101T000000
END:STANDARD
END:VTIMEZONE
BEGIN:VEVENT
DTSTART;TZID=UTC:20250630T180000
DTEND;TZID=UTC:20250630T190000
DTSTAMP:20260426T012008
CREATED:20250602T221138Z
LAST-MODIFIED:20250602T221716Z
UID:5727-1751306400-1751310000@arizonatars.com
SUMMARY:MAGA DC Raffle Drawing
DESCRIPTION:Any Questions- Contact the State Advisor at (480) 231-8972 \nRSVP is required\, and available using the QR on the flyer
URL:https://arizonatars.com/event/maga-dc-raffle-drawing/
LOCATION:MCRC Building\, 7030 West Oakland Street\, Suite 101. Chandler\, AZ 85226
END:VEVENT
END:VCALENDAR