BEGIN:VCALENDAR
VERSION:2.0
PRODID:-//Arizona Teenage Republicans - ECPv6.15.20//NONSGML v1.0//EN
CALSCALE:GREGORIAN
METHOD:PUBLISH
X-ORIGINAL-URL:https://arizonatars.com
X-WR-CALDESC:Events for Arizona Teenage Republicans
REFRESH-INTERVAL;VALUE=DURATION:PT1H
X-Robots-Tag:noindex
X-PUBLISHED-TTL:PT1H
BEGIN:VTIMEZONE
TZID:UTC
BEGIN:STANDARD
TZOFFSETFROM:+0000
TZOFFSETTO:+0000
TZNAME:UTC
DTSTART:20240101T000000
END:STANDARD
END:VTIMEZONE
BEGIN:VEVENT
DTSTART;TZID=UTC:20250614T110000
DTEND;TZID=UTC:20250614T143000
DTSTAMP:20260426T023505
CREATED:20250521T190009Z
LAST-MODIFIED:20250521T190009Z
UID:5710-1749898800-1749911400@arizonatars.com
SUMMARY:Tempe Republican Women's Luncheon
DESCRIPTION:We have 10 seats available\, use the sign up to request your lunch option!
URL:https://arizonatars.com/event/tempe-republican-womens-luncheon/
LOCATION:Tempe Embassy Suites by Hilton\, 4400 S Rural Rd\, Tempe\, AZ\, 85282
END:VEVENT
END:VCALENDAR